BEGIN:VCALENDAR
VERSION:2.0
PRODID:-//Urban Program Bexar County - ECPv6.15.13.1//NONSGML v1.0//EN
CALSCALE:GREGORIAN
METHOD:PUBLISH
X-WR-CALNAME:Urban Program Bexar County
X-ORIGINAL-URL:https://bexar-tx.tamu.edu
X-WR-CALDESC:Events for Urban Program Bexar County
REFRESH-INTERVAL;VALUE=DURATION:PT1H
X-Robots-Tag:noindex
X-PUBLISHED-TTL:PT1H
BEGIN:VTIMEZONE
TZID:America/Chicago
BEGIN:DAYLIGHT
TZOFFSETFROM:-0600
TZOFFSETTO:-0500
TZNAME:CDT
DTSTART:20210314T080000
END:DAYLIGHT
BEGIN:STANDARD
TZOFFSETFROM:-0500
TZOFFSETTO:-0600
TZNAME:CST
DTSTART:20211107T070000
END:STANDARD
BEGIN:DAYLIGHT
TZOFFSETFROM:-0600
TZOFFSETTO:-0500
TZNAME:CDT
DTSTART:20220313T080000
END:DAYLIGHT
BEGIN:STANDARD
TZOFFSETFROM:-0500
TZOFFSETTO:-0600
TZNAME:CST
DTSTART:20221106T070000
END:STANDARD
BEGIN:DAYLIGHT
TZOFFSETFROM:-0600
TZOFFSETTO:-0500
TZNAME:CDT
DTSTART:20230312T080000
END:DAYLIGHT
BEGIN:STANDARD
TZOFFSETFROM:-0500
TZOFFSETTO:-0600
TZNAME:CST
DTSTART:20231105T070000
END:STANDARD
END:VTIMEZONE
BEGIN:VEVENT
DTSTART;TZID=America/Chicago:20220701T080000
DTEND;TZID=America/Chicago:20220701T120000
DTSTAMP:20260425T175735
CREATED:20220630T202120Z
LAST-MODIFIED:20220630T202132Z
UID:18705-1656662400-1656676800@bexar-tx.tamu.edu
SUMMARY:Private Pesticide Applicator Training
DESCRIPTION:Texas A&M AgriLife Extension Service will present a Private Pesticide Applicator Training program Friday\, July 1st at the Bexar County Extension Office\, 3355 Cherry Ridge Drive\, San Antonio (Suite 208).  Day-of registration will begin at 8 a.m. with the training from 8:30 a.m. – 12 noon.  This training is for people who do not have a license to apply restricted use pesticides on their property or those who had a license that expired at least a year ago. \nThe cost is $50 per person\, which includes the training and study materials.  Study materials will be available the day of the training.  Make checks or money orders payable to Texas A&M AgriLife Extension Service.  Participants should bring a calculator and photo identification.  To sign up for the training\, call 210-631-0400 or email Sarah at sarah.nichols@ag.tamu.edu.  Please provide a good telephone number as well.
URL:https://bexar-tx.tamu.edu/calendar/private-pesticide-applicator-training/
LOCATION:TX
END:VEVENT
BEGIN:VEVENT
DTSTART;TZID=America/Chicago:20220706T113000
DTEND;TZID=America/Chicago:20220706T170000
DTSTAMP:20260425T175735
CREATED:20220531T202033Z
LAST-MODIFIED:20220701T135932Z
UID:18595-1657107000-1657126800@bexar-tx.tamu.edu
SUMMARY:Youth Gardens Advanced Leadership Training (July 6 - 8\, 2022)
DESCRIPTION:This training is to provide instruction\, resources\, and support for youth gardening in the community. \nThis training will be smaller and provide more 1-on-1 with specialists\, instructors\, and youth leaders. \nEvent Details\nDay One: July 6\, 2022 || 11:30 AM – 5:00 PM\nDay Two: July 7\, 2022 || 8:30 AM – 4:30 PM\nDay Three: July 8\, 2022 || 8:30 AM – 12:00 PM\nWhere: 3355 Cherry Ridge\, Ste. 208\nSan Antonio\, TX 78230
URL:https://bexar-tx.tamu.edu/calendar/youth-gardens-advanced-leadership-training-july-6-8-2022/
LOCATION:Texas A&M AgriLife Extension Office\, 3355 Cherry Ridge Street\, Suite 208\, San Antonio\, TX\, 78230\, United States
END:VEVENT
BEGIN:VEVENT
DTSTART;TZID=America/Chicago:20220707T083000
DTEND;TZID=America/Chicago:20220707T163000
DTSTAMP:20260425T175735
CREATED:20220531T202434Z
LAST-MODIFIED:20220701T135424Z
UID:18598-1657182600-1657211400@bexar-tx.tamu.edu
SUMMARY:Youth Gardens Advanced Leadership Training (July 6 - 8\, 2022)
DESCRIPTION:Youth Gardens Advanced Leadership Training (July 6 – 8\, 2022)\nThis training is to provide instruction\, resources\, and support for youth gardening in the community. \nThis training will be smaller and provide more 1-on-1 with specialists\, instructors\, and youth leaders. \nEvent Details\nDay One: July 6\, 2022 || 11:30 AM – 5:00 PM\nDay Two: July 7\, 2022 || 8:30 AM – 4:30 PM\nDay Three: July 8\, 2022 || 8:30 AM – 12:00 PM\nWhere: 3355 Cherry Ridge\, Ste. 208\nSan Antonio\, TX 78230
URL:https://bexar-tx.tamu.edu/calendar/youth-gardens-advanced-leadership-training-july-6-8-2022-2/
LOCATION:Texas A&M AgriLife Extension Office\, 3355 Cherry Ridge Street\, Suite 208\, San Antonio\, TX\, 78230\, United States
END:VEVENT
BEGIN:VEVENT
DTSTART;TZID=America/Chicago:20220707T120000
DTEND;TZID=America/Chicago:20220707T130000
DTSTAMP:20260425T175735
CREATED:20220615T204328Z
LAST-MODIFIED:20220615T204328Z
UID:18668-1657195200-1657198800@bexar-tx.tamu.edu
SUMMARY:Stress Less With Mindfulness
DESCRIPTION:Stress Less with Mindfulness\nThis five-class series introduces participants to the experience and practice of mindfulness to reduce stress.\nDates:\n1. Begin with a Breath (July\, 7th 2022)\n2. Mindful Eating (July 14th\, 2022)\n3. Mindful Walking (July 21st\, 2022)\n4. Be Kind to Your Mind (July 28th\, 2022)\n5. Laughter is Good Medicine (August 4th\, 2022)\nCost: Free\nLocation: Double Height Court Room\, Bexar County District Courts \nAddress: 100 Dolorosa\, San Antonio\, TX 78205 \nClick here to register \nPlease note that this series is for Bexar County Employees only.\nIf you are interested in this series\, please contact Ashley Hernandez at ashley.hernandez@ag.tamu.edu 
URL:https://bexar-tx.tamu.edu/calendar/stress-less-with-mindfulness-2/
LOCATION:Bexar County District Court Room\, 100 Dolorosa\, San Antonio\, 78205\, United States
ORGANIZER;CN="Ashley Hernandez":MAILTO:ashley.hernandez@ag.tamu.edu
END:VEVENT
BEGIN:VEVENT
DTSTART;TZID=America/Chicago:20220708T083000
DTEND;TZID=America/Chicago:20220708T120000
DTSTAMP:20260425T175735
CREATED:20220531T202635Z
LAST-MODIFIED:20220701T135206Z
UID:18600-1657269000-1657281600@bexar-tx.tamu.edu
SUMMARY:Youth Gardens Advanced Leadership Training (July 6 - 8\, 2022)
DESCRIPTION:Youth Gardens Advanced Leadership Training (July 6 – 8\, 2022)\nThis training is to provide instruction\, resources\, and support for youth gardening in the community. \nThis training will be smaller and provide more 1-on-1 with specialists\, instructors\, and youth leaders. \nDay One: July 6\, 2022 || 11:30 AM – 5:00 PM\nDay Two: July 7\, 2022 || 8:30 AM – 4:30 PM\nDay Three: July 8\, 2022 || 8:30 AM – 12:00 PM\nWhere: 3355 Cherry Ridge\, Ste. 208\nSan Antonio\, TX 78230
URL:https://bexar-tx.tamu.edu/calendar/youth-gardens-advanced-leadership-training-july-6-8-2022-3/
LOCATION:TX
END:VEVENT
BEGIN:VEVENT
DTSTART;TZID=America/Chicago:20220712T080000
DTEND;TZID=America/Chicago:20220713T170000
DTSTAMP:20260425T175735
CREATED:20220617T190438Z
LAST-MODIFIED:20220617T190438Z
UID:18689-1657612800-1657731600@bexar-tx.tamu.edu
SUMMARY:Water Well Screening Event
DESCRIPTION:
URL:https://bexar-tx.tamu.edu/calendar/water-well-screening-event/
LOCATION:TX
END:VEVENT
BEGIN:VEVENT
DTSTART;TZID=America/Chicago:20220713T090000
DTEND;TZID=America/Chicago:20220715T140000
DTSTAMP:20260425T175735
CREATED:20220418T133350Z
LAST-MODIFIED:20220418T133536Z
UID:18411-1657702800-1657893600@bexar-tx.tamu.edu
SUMMARY:Entomology Summer Camp 2
DESCRIPTION:Entomology Summer Camp 2 – Ages 7-12 are welcome! \nCamp 2:  July 13 – 15  \nTime:  9:00 am – 2:00 pm \nLocation:  Phil Hardberger Park Urban Ecology Classroom (NW Military Side) \nCost:  $130 \n*Returning Campers:  $80 \n*will no receive a collecting kit\, bag\, or net.  If you attended a Junior Entomology Camp\, you will need to register as a new camper\, not returner*
URL:https://bexar-tx.tamu.edu/calendar/entomology-summer-camp-2/
LOCATION:Phil Hardberger Park\, 8400 NW Military Hwy\, San Antonio\, TX\, 78231\, United States
ORGANIZER;CN="Molly Keck":MAILTO:mekeck@ag.tamu.edu
END:VEVENT
BEGIN:VEVENT
DTSTART;TZID=America/Chicago:20220714T120000
DTEND;TZID=America/Chicago:20220714T130000
DTSTAMP:20260425T175735
CREATED:20220615T204433Z
LAST-MODIFIED:20220615T204433Z
UID:18673-1657800000-1657803600@bexar-tx.tamu.edu
SUMMARY:Stress Less with Mindfulness
DESCRIPTION:Stress Less with Mindfulness\nThis five-class series introduces participants to the experience and practice of mindfulness to reduce stress.\nDates:\n1. Begin with a Breath (July\, 7th 2022)\n2. Mindful Eating (July 14th\, 2022)\n3. Mindful Walking (July 21st\, 2022)\n4. Be Kind to Your Mind (July 28th\, 2022)\n5. Laughter is Good Medicine (August 4th\, 2022)\nCost: Free\nLocation: Double Height Court Room\, Bexar County District Courts \nAddress: 100 Dolorosa\, San Antonio\, TX 78205 \nClick here to register \nPlease note that this series is for Bexar County Employees only.\nIf you are interested in this series\, please contact Ashley Hernandez at ashley.hernandez@ag.tamu.edu 
URL:https://bexar-tx.tamu.edu/calendar/stress-less-with-mindfulness-3/
LOCATION:Bexar County District Court Room\, 100 Dolorosa\, San Antonio\, 78205\, United States
ORGANIZER;CN="Ashley Hernandez":MAILTO:ashley.hernandez@ag.tamu.edu
END:VEVENT
BEGIN:VEVENT
DTSTART;TZID=America/Chicago:20220718T140000
DTEND;TZID=America/Chicago:20220722T164500
DTSTAMP:20260425T175735
CREATED:20220615T190427Z
LAST-MODIFIED:20220615T200259Z
UID:18652-1658152800-1658508300@bexar-tx.tamu.edu
SUMMARY:GEM Program - KIN Summer Camp
DESCRIPTION:GEM is an awareness and acceptance stress management program for ages 10 & up. This program focuses on practical and interactive mindfulness based activities to help manage stress.  \nInstructor: Ashley Hernandez  \nCost: Free\nAddress: Vineyard Ranch Elementary\, 16818 Huebner Rd\, San Antonio\, TX 78258\nWhen: July 18th – July 22nd \nTime: 2:30 p.m. – 3:30 p.m.   \nPlease note that this program is closed to KIN summer camp participants only.\nFor more information please contact Ashley Hernandez at ashley.hernandez@ag.tamu.edu  \n \n 
URL:https://bexar-tx.tamu.edu/calendar/gem-program-kin-summer-camp/
LOCATION:Vineyard Ranch Elementary\,  16818 Huebner Rd\, San Antonio\, TX\, 78258\, United States
ORGANIZER;CN="Ashley Hernandez":MAILTO:ashley.hernandez@ag.tamu.edu
END:VEVENT
BEGIN:VEVENT
DTSTART;TZID=America/Chicago:20220721T090000
DTEND;TZID=America/Chicago:20220721T110000
DTSTAMP:20260425T175735
CREATED:20220516T191407Z
LAST-MODIFIED:20220516T191526Z
UID:18538-1658394000-1658401200@bexar-tx.tamu.edu
SUMMARY:Junior Entomology Camp
DESCRIPTION:
URL:https://bexar-tx.tamu.edu/calendar/junior-entomology-camp/
LOCATION:Bexar County Extension Office Suite 208\, 3355 Cherry Ridge\, Ste. 208\, San Antonio\, TX\, 78230\, United States
ORGANIZER;CN="Molly Keck":MAILTO:mekeck@ag.tamu.edu
END:VEVENT
BEGIN:VEVENT
DTSTART;TZID=America/Chicago:20220721T120000
DTEND;TZID=America/Chicago:20220721T130000
DTSTAMP:20260425T175735
CREATED:20220615T204608Z
LAST-MODIFIED:20220615T204608Z
UID:18675-1658404800-1658408400@bexar-tx.tamu.edu
SUMMARY:Stress Less With Mindfulness
DESCRIPTION:Stress Less with Mindfulness\nThis five-class series introduces participants to the experience and practice of mindfulness to reduce stress.\nDates:\n1. Begin with a Breath (July\, 7th 2022)\n2. Mindful Eating (July 14th\, 2022)\n3. Mindful Walking (July 21st\, 2022)\n4. Be Kind to Your Mind (July 28th\, 2022)\n5. Laughter is Good Medicine (August 4th\, 2022)\nCost: Free\nLocation: Double Height Court Room\, Bexar County District Courts \nAddress: 100 Dolorosa\, San Antonio\, TX 78205 \nClick here to register \nPlease note that this series is for Bexar County Employees only.\nIf you are interested in this series\, please contact Ashley Hernandez at ashley.hernandez@ag.tamu.edu 
URL:https://bexar-tx.tamu.edu/calendar/stress-less-with-mindfulness-4/
LOCATION:Bexar County District Court Room\, 100 Dolorosa\, San Antonio\, 78205\, United States
ORGANIZER;CN="Ashley Hernandez":MAILTO:ashley.hernandez@ag.tamu.edu
END:VEVENT
BEGIN:VEVENT
DTSTART;TZID=America/Chicago:20220722T090000
DTEND;TZID=America/Chicago:20220722T110000
DTSTAMP:20260425T175735
CREATED:20220516T191803Z
LAST-MODIFIED:20220516T191803Z
UID:18541-1658480400-1658487600@bexar-tx.tamu.edu
SUMMARY:Junior Entomology Camp
DESCRIPTION:
URL:https://bexar-tx.tamu.edu/calendar/junior-entomology-camp-2/
LOCATION:Bexar County Extension Office Suite 208\, 3355 Cherry Ridge\, Ste. 208\, San Antonio\, TX\, 78230\, United States
ORGANIZER;CN="Molly Keck":MAILTO:mekeck@ag.tamu.edu
END:VEVENT
BEGIN:VEVENT
DTSTART;TZID=America/Chicago:20220725T140000
DTEND;TZID=America/Chicago:20220729T164500
DTSTAMP:20260425T175735
CREATED:20220615T191413Z
LAST-MODIFIED:20220615T200317Z
UID:18656-1658757600-1659113100@bexar-tx.tamu.edu
SUMMARY:GEM Program - KIN Summer Camp
DESCRIPTION:GEM is an awareness and acceptance stress management program for ages 10 & up. This program focuses on practical and interactive mindfulness based activities to help manage stress.  \nInstructor: Ashley Hernandez  \nCost: Free\nAddress: Coker Elementary\, 302 Heimer Rd\, San Antonio\, TX 78232\nWhen: July 25th – July 29th \nTime: 2:30 p.m. – 3:30 p.m.    \nPlease note that this program is closed to KIN summer camp participants only.\nFor more information please contact Ashley Hernandez at ashley.hernandez@ag.tamu.edu 
URL:https://bexar-tx.tamu.edu/calendar/gem-program-kin-summer-camp-2/
LOCATION:Coker Elementary School\, 302 Heimer Rd\, San Antonio\, TX\, 78232\, United States
ORGANIZER;CN="Ashley Hernandez":MAILTO:ashley.hernandez@ag.tamu.edu
END:VEVENT
BEGIN:VEVENT
DTSTART;TZID=America/Chicago:20220728T120000
DTEND;TZID=America/Chicago:20220728T130000
DTSTAMP:20260425T175735
CREATED:20220615T204720Z
LAST-MODIFIED:20220615T204720Z
UID:18678-1659009600-1659013200@bexar-tx.tamu.edu
SUMMARY:Stress Less with Mindfulness
DESCRIPTION:Stress Less with Mindfulness\nThis five-class series introduces participants to the experience and practice of mindfulness to reduce stress.\nDates:\n1. Begin with a Breath (July\, 7th 2022)\n2. Mindful Eating (July 14th\, 2022)\n3. Mindful Walking (July 21st\, 2022)\n4. Be Kind to Your Mind (July 28th\, 2022)\n5. Laughter is Good Medicine (August 4th\, 2022)\nCost: Free\nLocation: Double Height Court Room\, Bexar County District Courts \nAddress: 100 Dolorosa\, San Antonio\, TX 78205 \nClick here to register \nPlease note that this series is for Bexar County Employees only.\nIf you are interested in this series\, please contact Ashley Hernandez at ashley.hernandez@ag.tamu.edu 
URL:https://bexar-tx.tamu.edu/calendar/stress-less-with-mindfulness-5/
LOCATION:Bexar County District Court Room\, 100 Dolorosa\, San Antonio\, 78205\, United States
ORGANIZER;CN="Ashley Hernandez":MAILTO:ashley.hernandez@ag.tamu.edu
END:VEVENT
END:VCALENDAR